BEGIN:VCALENDAR
VERSION:2.0
PRODID:-//South Baltimore Learning Center - ECPv6.0.6.2//NONSGML v1.0//EN
CALSCALE:GREGORIAN
METHOD:PUBLISH
X-WR-CALNAME:South Baltimore Learning Center
X-ORIGINAL-URL:https://southbaltimorelearns.org
X-WR-CALDESC:Events for South Baltimore Learning Center
REFRESH-INTERVAL;VALUE=DURATION:PT1H
X-Robots-Tag:noindex
X-PUBLISHED-TTL:PT1H
BEGIN:VTIMEZONE
TZID:America/New_York
BEGIN:DAYLIGHT
TZOFFSETFROM:-0500
TZOFFSETTO:-0400
TZNAME:EDT
DTSTART:20240310T070000
END:DAYLIGHT
BEGIN:STANDARD
TZOFFSETFROM:-0400
TZOFFSETTO:-0500
TZNAME:EST
DTSTART:20241103T060000
END:STANDARD
END:VTIMEZONE
BEGIN:VEVENT
DTSTART;VALUE=DATE:20240522
DTEND;VALUE=DATE:20240523
DTSTAMP:20260423T094111
CREATED:20251023T143009Z
LAST-MODIFIED:20251023T143009Z
UID:10739-1716336000-1716422399@southbaltimorelearns.org
SUMMARY:Sponsor An SBLC Learner !
DESCRIPTION:Sponsor an SBLC Learner! \n\n\n\n\nReady to make a lasting impact?\nBy becoming a learner sponsor\, you’ll help learners achieve life-changing milestones through access to free education\, career training\, and holistic support services. Your gift supports over 800 adults annually\, funding transportation\, textbooks\, digital tools\, and programs like workforce readiness\, mindfulness\, and trauma-informed care. Together\, we can turn determination into diplomas and dreams into reality. \n> Click here for more information<
URL:https://southbaltimorelearns.org/event/sponsor-an-sblc-learner/2024-05-22/
LOCATION:SBLC – 28 Ostend Street\, Baltimore\, MD 21230
ATTACH;FMTTYPE=image/png:https://southbaltimorelearns.org/wp-content/uploads/Grad-Sponsor-Flyers-1.png
END:VEVENT
BEGIN:VEVENT
DTSTART;TZID=America/New_York:20240522T123000
DTEND;TZID=America/New_York:20240522T143000
DTSTAMP:20260423T094111
CREATED:20230907T205353Z
LAST-MODIFIED:20240416T200155Z
UID:9244-1716381000-1716388200@southbaltimorelearns.org
SUMMARY:South Baltimore Mindfulness Project
DESCRIPTION:The South Baltimore Mindfulness Project\, SBLC| Learning Works (formally South Baltimore Learning Center) aims to utilize mindfulness and self-care practices to re-engage our community and address the effects of stress and trauma in our educational system.The South Baltimore Mindfulness Project will offer 14 sessions of Mindfulness-based classes including meditation\, stretching to release tension\, nutrition\, and breathing exercises.. Participants will learn about mindfulness\,coping skills\, nutritional education\, how to identify triggers for trauma reminders\, and how to evaluate anxious thoughts. These mindfulness and self-care practices aim to address the effects of loss\, stress\, and trauma on South Baltimore residents & learners.\nSessions start April 10th\, Sign up today ! \nAdd and follow SBLC|Learning Works content on our social media platforms.\nFor more information\, contact Cha’kel Walker at Cwalker@southbaltimorelearns.org or 410.625.4215 Ext 130\n 
URL:https://southbaltimorelearns.org/event/south-baltimore-mindfulness-project/2024-05-22/
LOCATION:SBLC – 28 Ostend Street\, Baltimore\, MD 21230
ATTACH;FMTTYPE=image/png:https://southbaltimorelearns.org/wp-content/uploads/South-Baltimore-Mindfulness-Project-flyer-1.png
END:VEVENT
END:VCALENDAR