BEGIN:VCALENDAR
VERSION:2.0
PRODID:-//South Baltimore Learning Center - ECPv6.0.6.2//NONSGML v1.0//EN
CALSCALE:GREGORIAN
METHOD:PUBLISH
X-ORIGINAL-URL:https://southbaltimorelearns.org
X-WR-CALDESC:Events for South Baltimore Learning Center
REFRESH-INTERVAL;VALUE=DURATION:PT1H
X-Robots-Tag:noindex
X-PUBLISHED-TTL:PT1H
BEGIN:VTIMEZONE
TZID:America/New_York
BEGIN:DAYLIGHT
TZOFFSETFROM:-0500
TZOFFSETTO:-0400
TZNAME:EDT
DTSTART:20250309T070000
END:DAYLIGHT
BEGIN:STANDARD
TZOFFSETFROM:-0400
TZOFFSETTO:-0500
TZNAME:EST
DTSTART:20251102T060000
END:STANDARD
END:VTIMEZONE
BEGIN:VEVENT
DTSTART;VALUE=DATE:20250602
DTEND;VALUE=DATE:20250702
DTSTAMP:20260420T231846
CREATED:20250331T155513Z
LAST-MODIFIED:20251006T192003Z
UID:10121-1748822400-1751414399@southbaltimorelearns.org
SUMMARY:Summer Semester Enrollment Begins
DESCRIPTION:REGISTRATION FOR THE SUMMER SEMESTER STARTS TODAY! \nContact Ms. Petti to signup for classes \nStop by the SBLC|Learning Works office at 28 E Ostend St or call: 410.625.4215\, ext. 103 for Kelsey Petti \n\nWe can’t wait to meet you and look forward to assisting you on your educational journey!
URL:https://southbaltimorelearns.org/event/summer-semester-enrollment-begins-2/
LOCATION:MD
ATTACH;FMTTYPE=image/png:https://southbaltimorelearns.org/wp-content/uploads/Summer-24-Enrollment-Flyer-2.png
END:VEVENT
BEGIN:VEVENT
DTSTART;VALUE=DATE:20250624
DTEND;VALUE=DATE:20250625
DTSTAMP:20260420T231846
CREATED:20251023T143009Z
LAST-MODIFIED:20251023T143009Z
UID:11139-1750723200-1750809599@southbaltimorelearns.org
SUMMARY:Sponsor An SBLC Learner !
DESCRIPTION:Sponsor an SBLC Learner! \n\n\n\n\nReady to make a lasting impact?\nBy becoming a learner sponsor\, you’ll help learners achieve life-changing milestones through access to free education\, career training\, and holistic support services. Your gift supports over 800 adults annually\, funding transportation\, textbooks\, digital tools\, and programs like workforce readiness\, mindfulness\, and trauma-informed care. Together\, we can turn determination into diplomas and dreams into reality. \n> Click here for more information<
URL:https://southbaltimorelearns.org/event/sponsor-an-sblc-learner/2025-06-24/
LOCATION:SBLC – 28 Ostend Street\, Baltimore\, MD 21230
ATTACH;FMTTYPE=image/png:https://southbaltimorelearns.org/wp-content/uploads/Grad-Sponsor-Flyers-1.png
END:VEVENT
BEGIN:VEVENT
DTSTART;TZID=America/New_York:20250624T110000
DTEND;TZID=America/New_York:20250624T133000
DTSTAMP:20260420T231846
CREATED:20250514T153928Z
LAST-MODIFIED:20250514T153928Z
UID:10302-1750762800-1750771800@southbaltimorelearns.org
SUMMARY:SBLC|Learning Works 2025 Graduation
DESCRIPTION:SBLC Class of 2025 Graduation Ceremony is just around the corner! Join us as we celebrate the accomplishments and successes of our talented graduates. Get ready for a day filled with laughter\, tears\, and unforgettable moments.  \nStay tuned for more details!
URL:https://southbaltimorelearns.org/event/sblclearning-works-2025-graduation/
LOCATION:community engagement center\, 16 S. Poppleton St.\, Baltimore\, MD\, 21201
CATEGORIES:Special Event
ATTACH;FMTTYPE=image/jpeg:https://southbaltimorelearns.org/wp-content/uploads/357433380_751428213650373_1370648236090793636_n.jpg
GEO:39.2882255;-76.6324119
X-APPLE-STRUCTURED-LOCATION;VALUE=URI;X-ADDRESS=community engagement center 16 S. Poppleton St. Baltimore MD 21201;X-APPLE-RADIUS=500;X-TITLE=16 S. Poppleton St.:geo:-76.6324119,39.2882255
END:VEVENT
END:VCALENDAR