BEGIN:VCALENDAR
VERSION:2.0
PRODID:-//South Baltimore Learning Center - ECPv6.0.6.2//NONSGML v1.0//EN
CALSCALE:GREGORIAN
METHOD:PUBLISH
X-ORIGINAL-URL:https://southbaltimorelearns.org
X-WR-CALDESC:Events for South Baltimore Learning Center
REFRESH-INTERVAL;VALUE=DURATION:PT1H
X-Robots-Tag:noindex
X-PUBLISHED-TTL:PT1H
BEGIN:VTIMEZONE
TZID:America/New_York
BEGIN:DAYLIGHT
TZOFFSETFROM:-0500
TZOFFSETTO:-0400
TZNAME:EDT
DTSTART:20240310T070000
END:DAYLIGHT
BEGIN:STANDARD
TZOFFSETFROM:-0400
TZOFFSETTO:-0500
TZNAME:EST
DTSTART:20241103T060000
END:STANDARD
END:VTIMEZONE
BEGIN:VEVENT
DTSTART;TZID=America/New_York:20241107T180000
DTEND;TZID=America/New_York:20241107T210000
DTSTAMP:20260423T034744
CREATED:20241009T005924Z
LAST-MODIFIED:20241009T010211Z
UID:9801-1731002400-1731013200@southbaltimorelearns.org
SUMMARY:SBLC Corks\, Cheese & Charity Event
DESCRIPTION:Join us for the “Raise Your Glass: Corks\, Cheese & Charity” event\, where we celebrate the incredible contributions of our volunteers and donors who make our mission possible. Enjoy an evening of exquisite wines and gourmet cheeses while mingling with like-minded supporters who believe in our cause. This event not only honors those who have generously given their time and resources but also serves as a heartfelt invitation to prospective donors to join our community and help us continue our vital work. Together\, let’s raise our glasses to the spirit of generosity and the positive impact it creates! This event is invite only.  \nFor more information\, please contact Development Specialist Abdul Ali at aali@southbaltimorelearns.org or 410-625-4215. \n 
URL:https://southbaltimorelearns.org/event/sblc-corks-cheese-charity-event/
LOCATION:MD
CATEGORIES:Special Event
ATTACH;FMTTYPE=image/png:https://southbaltimorelearns.org/wp-content/uploads/Volunteer-Donor-Appreciation-Invitation-Invitation-portrait.png
END:VEVENT
END:VCALENDAR