BEGIN:VCALENDAR
VERSION:2.0
PRODID:-//South Baltimore Learning Center - ECPv6.0.6.2//NONSGML v1.0//EN
CALSCALE:GREGORIAN
METHOD:PUBLISH
X-WR-CALNAME:South Baltimore Learning Center
X-ORIGINAL-URL:https://southbaltimorelearns.org
X-WR-CALDESC:Events for South Baltimore Learning Center
REFRESH-INTERVAL;VALUE=DURATION:PT1H
X-Robots-Tag:noindex
X-PUBLISHED-TTL:PT1H
BEGIN:VTIMEZONE
TZID:America/New_York
BEGIN:DAYLIGHT
TZOFFSETFROM:-0500
TZOFFSETTO:-0400
TZNAME:EDT
DTSTART:20170312T070000
END:DAYLIGHT
BEGIN:STANDARD
TZOFFSETFROM:-0400
TZOFFSETTO:-0500
TZNAME:EST
DTSTART:20171105T060000
END:STANDARD
END:VTIMEZONE
BEGIN:VEVENT
DTSTART;TZID=America/New_York:20170809T140000
DTEND;TZID=America/New_York:20170809T160000
DTSTAMP:20260422T183154
CREATED:20170801T002210Z
LAST-MODIFIED:20170801T002303Z
UID:5970-1502287200-1502294400@southbaltimorelearns.org
SUMMARY:National Book Lover's Day Cook-Out
DESCRIPTION:Join SBLC as we celebrate an evening of books! SBLC alumni and learners are invited to read excerpts from their favorite books while meeting other SBLC alumni\, learners\, staff and volunteers. Attendees can expect to receive useful resource information too! Family members and friends of alumni and learners are invited to attend.
URL:https://southbaltimorelearns.org/event/national-book-lovers-day-cook/
LOCATION:South Baltimore Learning Center\, 28 E Ostend Street\, Baltimore \, MD\, 21230\, United States
GEO:39.2750587;-76.6131697
X-APPLE-STRUCTURED-LOCATION;VALUE=URI;X-ADDRESS=South Baltimore Learning Center 28 E Ostend Street Baltimore  MD 21230 United States;X-APPLE-RADIUS=500;X-TITLE=28 E Ostend Street:geo:-76.6131697,39.2750587
END:VEVENT
BEGIN:VEVENT
DTSTART;TZID=America/New_York:20170429T150000
DTEND;TZID=America/New_York:20170429T190000
DTSTAMP:20260422T183154
CREATED:20170228T084000Z
LAST-MODIFIED:20170426T213551Z
UID:5755-1493478000-1493492400@southbaltimorelearns.org
SUMMARY:SBLC's 2017 Gala
DESCRIPTION:Get your tickets for an adventure across the globe at a cocktail-style celebration with international cuisine\, music throughout the ages\, and chances to win out-of-this-world raffle showcases and live auction prizes! Mingle with Baltimore’s finest\, including recent SBLC graduates and their supportive family members. Show your support for the power of adult literacy to open new worlds of possibility. \nOur 18th annual gala is made possible by our presenting sponsor\, M&T Bank\, and many other long-time corporate sponsors and donors. \nCheck out our Live Auction Summary – you could be a winner of one of these amazing destinations! \nOur friend\, Fox 45 Chief Meteorologist Vytas Reid\, will serve as our emcee and captain for our 18th annual gala. Toast our honoree\, The Neuman Family\, for their longtime commitment\, dedication and support for SBLC and our adult learners. Join us in reaching our fundraising goal of $85\,000 while traveling station to station tasting dishes from Blue Agave\, DiPasquale’s\, Matsuri\, Soul Kuisine Cafe and more! \nClick here to visit our event website to reserve tickets and review FAQs.
URL:https://southbaltimorelearns.org/event/sblcs-2017-gala/
LOCATION:Horseshoe Baltimore\, 1525 Russell Street\, Baltimore\, MD\, 21230\, United States
GEO:39.2736425;-76.6273722
X-APPLE-STRUCTURED-LOCATION;VALUE=URI;X-ADDRESS=Horseshoe Baltimore 1525 Russell Street Baltimore MD 21230 United States;X-APPLE-RADIUS=500;X-TITLE=1525 Russell Street:geo:-76.6273722,39.2736425
END:VEVENT
END:VCALENDAR