BEGIN:VCALENDAR
VERSION:2.0
PRODID:-//South Baltimore Learning Center - ECPv6.0.6.2//NONSGML v1.0//EN
CALSCALE:GREGORIAN
METHOD:PUBLISH
X-WR-CALNAME:South Baltimore Learning Center
X-ORIGINAL-URL:https://southbaltimorelearns.org
X-WR-CALDESC:Events for South Baltimore Learning Center
REFRESH-INTERVAL;VALUE=DURATION:PT1H
X-Robots-Tag:noindex
X-PUBLISHED-TTL:PT1H
BEGIN:VTIMEZONE
TZID:America/New_York
BEGIN:DAYLIGHT
TZOFFSETFROM:-0500
TZOFFSETTO:-0400
TZNAME:EDT
DTSTART:20240310T070000
END:DAYLIGHT
BEGIN:STANDARD
TZOFFSETFROM:-0400
TZOFFSETTO:-0500
TZNAME:EST
DTSTART:20241103T060000
END:STANDARD
END:VTIMEZONE
BEGIN:VEVENT
DTSTART;TZID=America/New_York:20240314T100000
DTEND;TZID=America/New_York:20240314T123000
DTSTAMP:20260425T130312
CREATED:20240221T164255Z
LAST-MODIFIED:20240221T164359Z
UID:9153-1710410400-1710419400@southbaltimorelearns.org
SUMMARY:Spring Walk In Assessment
DESCRIPTION:SBLC is offering walk-in assessments for enrollment in the Spring 2024 semester or the National External Diploma Program. This assessment takes between two to three hours. Please bring a photo ID with you. \nIf you have questions or would like to schedule a placement test on a different day\, please contact Ms. Johnson\, Intake & Assessment Specialist\, or call (410) 625-4215. \nSign up Today! https://southbaltimorelearns.org/interest-form/
URL:https://southbaltimorelearns.org/event/spring-walk-in-assessment/2024-03-14/
LOCATION:MD
ATTACH;FMTTYPE=image/png:https://southbaltimorelearns.org/wp-content/uploads/Spring-Walk-In-Flyer.png
END:VEVENT
END:VCALENDAR